BEGIN:VCALENDAR
VERSION:2.0
PRODID:-//Student Transitions &amp; Engagement//NONSGML v1.0//EN
CALSCALE:GREGORIAN
METHOD:PUBLISH
BEGIN:VEVENT
UID:3380-0
SUMMARY:Classes are Monday\, Get Ready! *
DTSTART:20250820T193000Z
DTEND:20250820T210000Z
DTSTAMP:20250305T172927Z
LAST-MODIFIED:20250807T190141Z
SEQUENCE:0
DESCRIPTION:\nVarious locations\n\n\n\nMeet once again with your WUSA small group. During this session\, you will prepare for your first week of classes by engaging in conversations around academic success habits\, thinking about your calendar and schedule\, participating in a first-day-of-class priorities activity\, and reflecting on your academic goals. See communication from your WUSA for specific locations.  \n
END:VEVENT
END:VCALENDAR